BEGIN:VCALENDAR
VERSION:2.0
PRODID:-//Irseer Klosterbräu - ECPv6.15.12.2//NONSGML v1.0//EN
CALSCALE:GREGORIAN
METHOD:PUBLISH
X-WR-CALNAME:Irseer Klosterbräu
X-ORIGINAL-URL:https://www.irsee.com
X-WR-CALDESC:Veranstaltungen für Irseer Klosterbräu
REFRESH-INTERVAL;VALUE=DURATION:PT1H
X-Robots-Tag:noindex
X-PUBLISHED-TTL:PT1H
BEGIN:VTIMEZONE
TZID:UTC
BEGIN:STANDARD
TZOFFSETFROM:+0000
TZOFFSETTO:+0000
TZNAME:UTC
DTSTART:20250101T000000
END:STANDARD
END:VTIMEZONE
BEGIN:VEVENT
DTSTART;TZID=UTC:20260705T113000
DTEND;TZID=UTC:20260705T133000
DTSTAMP:20260421T121500
CREATED:20260201T095240Z
LAST-MODIFIED:20260201T095240Z
UID:3240-1783251000-1783258200@www.irsee.com
SUMMARY:LIVE Musik im Biergarten
DESCRIPTION:mit musikalischer Umrahmung der Musikkapelle Ketterschwang
URL:https://www.irsee.com/termin/live-musik-im-biergarten-31/
LOCATION:KLOSTERBRAEU BIERGARTEN
CATEGORIES:Biergarten
END:VEVENT
BEGIN:VEVENT
DTSTART;TZID=UTC:20260711T160000
DTEND;TZID=UTC:20260711T180000
DTSTAMP:20260421T121500
CREATED:20260201T095553Z
LAST-MODIFIED:20260201T095553Z
UID:3242-1783785600-1783792800@www.irsee.com
SUMMARY:LIVE Musik im Biergarten
DESCRIPTION:mit musikalischer Umrahmung der Musikkapelle Unter-/ Oberdießen
URL:https://www.irsee.com/termin/live-musik-im-biergarten-32/
LOCATION:KLOSTERBRAEU BIERGARTEN
CATEGORIES:Biergarten
END:VEVENT
BEGIN:VEVENT
DTSTART;TZID=UTC:20260719T113000
DTEND;TZID=UTC:20260719T133000
DTSTAMP:20260421T121500
CREATED:20260213T121954Z
LAST-MODIFIED:20260213T121954Z
UID:3261-1784460600-1784467800@www.irsee.com
SUMMARY:LIVE Musik im Biergarten
DESCRIPTION:mit musikalischer Umrahmung der Musikgesellschaft Waal
URL:https://www.irsee.com/termin/live-musik-im-biergarten-33/
LOCATION:KLOSTERBRAEU BIERGARTEN
CATEGORIES:Biergarten
END:VEVENT
BEGIN:VEVENT
DTSTART;TZID=UTC:20260725T160000
DTEND;TZID=UTC:20260725T180000
DTSTAMP:20260421T121500
CREATED:20260213T122140Z
LAST-MODIFIED:20260213T122140Z
UID:3263-1784995200-1785002400@www.irsee.com
SUMMARY:LIVE Musik im Biergarten
DESCRIPTION:mit musikalischer Umrahmung der Musikkapelle Ketterschwang
URL:https://www.irsee.com/termin/live-musik-im-biergarten-34/
LOCATION:KLOSTERBRAEU BIERGARTEN
CATEGORIES:Biergarten
END:VEVENT
END:VCALENDAR