BEGIN:VCALENDAR
VERSION:2.0
PRODID:-//Irseer Klosterbräu - ECPv6.15.12.2//NONSGML v1.0//EN
CALSCALE:GREGORIAN
METHOD:PUBLISH
X-ORIGINAL-URL:https://www.irsee.com
X-WR-CALDESC:Veranstaltungen für Irseer Klosterbräu
REFRESH-INTERVAL;VALUE=DURATION:PT1H
X-Robots-Tag:noindex
X-PUBLISHED-TTL:PT1H
BEGIN:VTIMEZONE
TZID:UTC
BEGIN:STANDARD
TZOFFSETFROM:+0000
TZOFFSETTO:+0000
TZNAME:UTC
DTSTART:20240101T000000
END:STANDARD
END:VTIMEZONE
BEGIN:VEVENT
DTSTART;TZID=UTC:20250403T193000
DTEND;TZID=UTC:20250403T220000
DTSTAMP:20260421T134819
CREATED:20241206T110039Z
LAST-MODIFIED:20241206T110039Z
UID:2382-1743708600-1743717600@www.irsee.com
SUMMARY:LIVE Musik in der Taverne - "MIXI STILL A LIVE + GUEST"
DESCRIPTION:Unplugged Cover Rock
URL:https://www.irsee.com/termin/live-musik-in-der-taverne-mixi-still-a-live-guest-2/
LOCATION:KLOSTERBRAEU TAVERNE
CATEGORIES:Taverne
END:VEVENT
BEGIN:VEVENT
DTSTART;TZID=UTC:20250410T193000
DTEND;TZID=UTC:20250417T220000
DTSTAMP:20260421T134819
CREATED:20241206T110439Z
LAST-MODIFIED:20250330T082858Z
UID:2384-1744313400-1744927200@www.irsee.com
SUMMARY:LIVE Musik in der Taverne - "LIA MEE"
DESCRIPTION:Gitarre\, Gesang\, Liedermacherin
URL:https://www.irsee.com/termin/live-musik-in-der-taverne-lia-mee/
LOCATION:KLOSTERBRAEU TAVERNE
CATEGORIES:Taverne
END:VEVENT
BEGIN:VEVENT
DTSTART;TZID=UTC:20250417T193000
DTEND;TZID=UTC:20250417T220000
DTSTAMP:20260421T134819
CREATED:20241206T110554Z
LAST-MODIFIED:20241206T110554Z
UID:2386-1744918200-1744927200@www.irsee.com
SUMMARY:LIVE Musik in der Taverne - "PIT"
DESCRIPTION:Udo Lindenberg & Friends Parodie
URL:https://www.irsee.com/termin/live-musik-in-der-taverne-pit/
LOCATION:KLOSTERBRAEU TAVERNE
CATEGORIES:Taverne
END:VEVENT
BEGIN:VEVENT
DTSTART;TZID=UTC:20250424T193000
DTEND;TZID=UTC:20250424T220000
DTSTAMP:20260421T134819
CREATED:20241206T110718Z
LAST-MODIFIED:20241206T110718Z
UID:2388-1745523000-1745532000@www.irsee.com
SUMMARY:LIVE Musik in der Taverne - "ANGI LANG & MANFRED REICHENBERGER"
DESCRIPTION:Singer\, Songwriterin\, Gitarre
URL:https://www.irsee.com/termin/live-musik-in-der-taverne-angi-lang-manfred-reichenberger/
LOCATION:KLOSTERBRAEU TAVERNE
CATEGORIES:Taverne
END:VEVENT
END:VCALENDAR