BEGIN:VCALENDAR
VERSION:2.0
PRODID:-//Irseer Klosterbräu - ECPv6.15.12.2//NONSGML v1.0//EN
CALSCALE:GREGORIAN
METHOD:PUBLISH
X-WR-CALNAME:Irseer Klosterbräu
X-ORIGINAL-URL:https://www.irsee.com
X-WR-CALDESC:Veranstaltungen für Irseer Klosterbräu
REFRESH-INTERVAL;VALUE=DURATION:PT1H
X-Robots-Tag:noindex
X-PUBLISHED-TTL:PT1H
BEGIN:VTIMEZONE
TZID:UTC
BEGIN:STANDARD
TZOFFSETFROM:+0000
TZOFFSETTO:+0000
TZNAME:UTC
DTSTART:20240101T000000
END:STANDARD
END:VTIMEZONE
BEGIN:VEVENT
DTSTART;TZID=UTC:20250206T193000
DTEND;TZID=UTC:20250206T220000
DTSTAMP:20260421T165229
CREATED:20241206T105007Z
LAST-MODIFIED:20241206T105027Z
UID:2365-1738870200-1738879200@www.irsee.com
SUMMARY:LIVE Musik in der Taverne - "DIMI´S MUSIC"
DESCRIPTION:Acoustic\, Live-Loop\, Vielseitig
URL:https://www.irsee.com/termin/live-musik-in-der-taverne-dimis-music/
LOCATION:KLOSTERBRAEU TAVERNE
CATEGORIES:Taverne
END:VEVENT
BEGIN:VEVENT
DTSTART;TZID=UTC:20250213T193000
DTEND;TZID=UTC:20250213T220000
DTSTAMP:20260421T165229
CREATED:20241206T105205Z
LAST-MODIFIED:20241206T105205Z
UID:2368-1739475000-1739484000@www.irsee.com
SUMMARY:LIVE Musik in der Taverne - "ANGIE LANG & MANFRED REICHENBERGER"
DESCRIPTION:Singer\, Songwriterin\, Gitarre
URL:https://www.irsee.com/termin/live-musik-in-der-taverne-angie-lang-manfred-reichenberger/
LOCATION:KLOSTERBRAEU TAVERNE
CATEGORIES:Taverne
END:VEVENT
BEGIN:VEVENT
DTSTART;TZID=UTC:20250220T193000
DTEND;TZID=UTC:20250220T220000
DTSTAMP:20260421T165229
CREATED:20241206T105315Z
LAST-MODIFIED:20241206T105315Z
UID:2370-1740079800-1740088800@www.irsee.com
SUMMARY:LIVE Musik in der Taverne - "ADI HAUKE"
DESCRIPTION:Acoustix Guitar\, Loop\, Didgeridoo\, …
URL:https://www.irsee.com/termin/live-musik-in-der-taverne-adi-hauke-2/
LOCATION:KLOSTERBRAEU TAVERNE
CATEGORIES:Taverne
END:VEVENT
BEGIN:VEVENT
DTSTART;TZID=UTC:20250227T193000
DTEND;TZID=UTC:20250227T220000
DTSTAMP:20260421T165229
CREATED:20241206T105425Z
LAST-MODIFIED:20241206T105425Z
UID:2372-1740684600-1740693600@www.irsee.com
SUMMARY:LIVE Musik in der Taverne - "MARTIN FOWLES and REGINA BERGMANN"
DESCRIPTION:Fine Folk and Blues
URL:https://www.irsee.com/termin/live-musik-in-der-taverne-martin-fowles-and-regina-bergmann/
LOCATION:KLOSTERBRAEU TAVERNE
CATEGORIES:Taverne
END:VEVENT
END:VCALENDAR