BEGIN:VCALENDAR
VERSION:2.0
PRODID:-//Irseer Klosterbräu - ECPv6.15.12.2//NONSGML v1.0//EN
CALSCALE:GREGORIAN
METHOD:PUBLISH
X-WR-CALNAME:Irseer Klosterbräu
X-ORIGINAL-URL:https://www.irsee.com
X-WR-CALDESC:Veranstaltungen für Irseer Klosterbräu
REFRESH-INTERVAL;VALUE=DURATION:PT1H
X-Robots-Tag:noindex
X-PUBLISHED-TTL:PT1H
BEGIN:VTIMEZONE
TZID:UTC
BEGIN:STANDARD
TZOFFSETFROM:+0000
TZOFFSETTO:+0000
TZNAME:UTC
DTSTART:20230101T000000
END:STANDARD
END:VTIMEZONE
BEGIN:VEVENT
DTSTART;TZID=UTC:20241201T160000
DTEND;TZID=UTC:20241201T200000
DTSTAMP:20260421T195316
CREATED:20241104T063500Z
LAST-MODIFIED:20241104T063500Z
UID:2276-1733068800-1733083200@www.irsee.com
SUMMARY:Adventsleuchten im Biergarten der Klosterbrauerei Irsee
DESCRIPTION:Irseer Bierpunsch\, Irseer Bierbratwurst\, Süße Waffeln\, Kinderpunsch\,…
URL:https://www.irsee.com/termin/adventsleuchten-im-biergarten-der-klosterbrauerei-irsee/
LOCATION:KLOSTERBRAEU BIERGARTEN
CATEGORIES:Biergarten
END:VEVENT
BEGIN:VEVENT
DTSTART;TZID=UTC:20241205T193000
DTEND;TZID=UTC:20241205T220000
DTSTAMP:20260421T195316
CREATED:20241104T062959Z
LAST-MODIFIED:20241104T062959Z
UID:2270-1733427000-1733436000@www.irsee.com
SUMMARY:LIVE Musik in der Taverne - ADI HAUKE
DESCRIPTION:Acoustic Guitar\, Loop\, Digeridoo\,… \nEintritt frei
URL:https://www.irsee.com/termin/live-musik-in-der-taverne-adi-hauke/
LOCATION:KLOSTERBRAEU TAVERNE
CATEGORIES:Taverne
END:VEVENT
BEGIN:VEVENT
DTSTART;TZID=UTC:20241207T200000
DTEND;TZID=UTC:20241207T220000
DTSTAMP:20260421T195316
CREATED:20241104T070023Z
LAST-MODIFIED:20241104T070023Z
UID:2296-1733601600-1733608800@www.irsee.com
SUMMARY:ALTBAU - Tante Friedl
DESCRIPTION:https://www.kleinkunstverein-altbau.de/
URL:https://www.irsee.com/termin/altbau-tante-friedl/
LOCATION:KLEINKUNSTBUEHNE ALTBAU
CATEGORIES:Altbau
END:VEVENT
BEGIN:VEVENT
DTSTART;TZID=UTC:20241208T160000
DTEND;TZID=UTC:20241208T200000
DTSTAMP:20260421T195316
CREATED:20241104T063640Z
LAST-MODIFIED:20241104T063640Z
UID:2280-1733673600-1733688000@www.irsee.com
SUMMARY:Adventsleuchten im Biergarten der Klosterbrauerei Irsee
DESCRIPTION:Irseer Bierpunsch\, Irseer Bierbratwurst\, Süße Waffeln\, Kinderpunsch\,…
URL:https://www.irsee.com/termin/adventsleuchten-im-biergarten-der-klosterbrauerei-irsee-2/
LOCATION:KLOSTERBRAEU BIERGARTEN
CATEGORIES:Biergarten
END:VEVENT
BEGIN:VEVENT
DTSTART;TZID=UTC:20241212T193000
DTEND;TZID=UTC:20241212T220000
DTSTAMP:20260421T195316
CREATED:20241102T082845Z
LAST-MODIFIED:20241104T062611Z
UID:2256-1734031800-1734040800@www.irsee.com
SUMMARY:LIVE Musik in der Taverne - MIXI STILL ALIVE + Guest
DESCRIPTION:Unplugged Cover Rock \nEintritt frei
URL:https://www.irsee.com/termin/live-musik-in-der-taverne-mixi-still-alive-2/
LOCATION:KLOSTERBRAEU TAVERNE
CATEGORIES:Taverne
END:VEVENT
BEGIN:VEVENT
DTSTART;TZID=UTC:20241215T160000
DTEND;TZID=UTC:20241215T200000
DTSTAMP:20260421T195316
CREATED:20241104T063723Z
LAST-MODIFIED:20241104T063723Z
UID:2282-1734278400-1734292800@www.irsee.com
SUMMARY:Adventsleuchten im Biergarten der Klosterbrauerei Irsee
DESCRIPTION:Irseer Bierpunsch\, Irseer Bierbratwurst\, Süße Waffeln\, Kinderpunsch\,…
URL:https://www.irsee.com/termin/adventsleuchten-im-biergarten-der-klosterbrauerei-irsee-3/
LOCATION:KLOSTERBRAEU BIERGARTEN
CATEGORIES:Biergarten
END:VEVENT
BEGIN:VEVENT
DTSTART;TZID=UTC:20241217T200000
DTEND;TZID=UTC:20241217T220000
DTSTAMP:20260421T195316
CREATED:20241104T070106Z
LAST-MODIFIED:20241104T070106Z
UID:2298-1734465600-1734472800@www.irsee.com
SUMMARY:ALTBAU - Wolfgang Krebs
DESCRIPTION:https://www.kleinkunstverein-altbau.de/ \n 
URL:https://www.irsee.com/termin/altbau-wolfgang-krebs/
LOCATION:KLEINKUNSTBUEHNE ALTBAU
CATEGORIES:Altbau
END:VEVENT
BEGIN:VEVENT
DTSTART;TZID=UTC:20241219T193000
DTEND;TZID=UTC:20241219T220000
DTSTAMP:20260421T195316
CREATED:20241104T063122Z
LAST-MODIFIED:20241104T063122Z
UID:2272-1734636600-1734645600@www.irsee.com
SUMMARY:LIVE Musik in der Taverne - TONPHILOSOFIE
DESCRIPTION:Gitarre & Gesang\, frei heraus ohne viel Tamtam \nEintritt frei
URL:https://www.irsee.com/termin/live-musik-in-der-taverne-tonphilosofie-2/
LOCATION:KLOSTERBRAEU TAVERNE
CATEGORIES:Taverne
END:VEVENT
BEGIN:VEVENT
DTSTART;TZID=UTC:20241222T160000
DTEND;TZID=UTC:20241222T200000
DTSTAMP:20260421T195316
CREATED:20241104T063801Z
LAST-MODIFIED:20241104T063801Z
UID:2284-1734883200-1734897600@www.irsee.com
SUMMARY:Adventsleuchten im Biergarten der Klosterbrauerei Irsee
DESCRIPTION:Irseer Bierpunsch\, Irseer Bierbratwurst\, Süße Waffeln\, Kinderpunsch\,…
URL:https://www.irsee.com/termin/adventsleuchten-im-biergarten-der-klosterbrauerei-irsee-4/
LOCATION:KLOSTERBRAEU BIERGARTEN
CATEGORIES:Biergarten
END:VEVENT
BEGIN:VEVENT
DTSTART;VALUE=DATE:20241223
DTEND;VALUE=DATE:20241225
DTSTAMP:20260421T195316
CREATED:20241104T064024Z
LAST-MODIFIED:20241104T064024Z
UID:2286-1734912000-1735084799@www.irsee.com
SUMMARY:Betriebsurlaub Brauereigasthof
DESCRIPTION:Liebe Gäste\, \nam 23. und 24. Dezember haben wir unseren Brauereigasthof geschlossen. Wir freuen uns Sie wieder am 25.12. begrüßen zu dürfen. \nIhr Team der Klosterbrauerei Irsee
URL:https://www.irsee.com/termin/betriebsurlaub-brauereigasthof/
LOCATION:KLOSTERBRAEU BRAUEREIGASTHOF
CATEGORIES:Brauereigasthof
END:VEVENT
BEGIN:VEVENT
DTSTART;TZID=UTC:20241226T193000
DTEND;TZID=UTC:20241226T220000
DTSTAMP:20260421T195316
CREATED:20241104T063214Z
LAST-MODIFIED:20241104T063214Z
UID:2274-1735241400-1735250400@www.irsee.com
SUMMARY:LIVE Musik in der Taverne - DIFFERENT FLAVOURS
DESCRIPTION:Musik für jeden guten Geschmack \nEintritt frei
URL:https://www.irsee.com/termin/live-musik-in-der-taverne-different-flavours/
LOCATION:KLOSTERBRAEU TAVERNE
CATEGORIES:Taverne
END:VEVENT
END:VCALENDAR