BEGIN:VCALENDAR
VERSION:2.0
PRODID:-//Irseer Klosterbräu - ECPv6.15.12.2//NONSGML v1.0//EN
CALSCALE:GREGORIAN
METHOD:PUBLISH
X-ORIGINAL-URL:https://www.irsee.com
X-WR-CALDESC:Veranstaltungen für Irseer Klosterbräu
REFRESH-INTERVAL;VALUE=DURATION:PT1H
X-Robots-Tag:noindex
X-PUBLISHED-TTL:PT1H
BEGIN:VTIMEZONE
TZID:UTC
BEGIN:STANDARD
TZOFFSETFROM:+0000
TZOFFSETTO:+0000
TZNAME:UTC
DTSTART:20230101T000000
END:STANDARD
END:VTIMEZONE
BEGIN:VEVENT
DTSTART;TZID=UTC:20241107T193000
DTEND;TZID=UTC:20241107T210000
DTSTAMP:20260421T213245
CREATED:20241101T111905Z
LAST-MODIFIED:20241104T062534Z
UID:2251-1731007800-1731013200@www.irsee.com
SUMMARY:LIVE Musik in der Taverne - MIXI STILL ALIVE
DESCRIPTION:Unplugged Cover Rock \nEintritt frei
URL:https://www.irsee.com/termin/live-musik-in-der-taverne-mixi-still-alive/
LOCATION:KLOSTERBRAEU TAVERNE
CATEGORIES:Taverne
END:VEVENT
BEGIN:VEVENT
DTSTART;TZID=UTC:20241109T200000
DTEND;TZID=UTC:20241109T220000
DTSTAMP:20260421T213245
CREATED:20241104T065543Z
LAST-MODIFIED:20241104T065543Z
UID:2289-1731182400-1731189600@www.irsee.com
SUMMARY:ALTBAU - Anna Piechotta
DESCRIPTION:https://www.kleinkunstverein-altbau.de/ \n 
URL:https://www.irsee.com/termin/altbau-anna-piechotta/
LOCATION:KLEINKUNSTBUEHNE ALTBAU
CATEGORIES:Altbau
END:VEVENT
BEGIN:VEVENT
DTSTART;TZID=UTC:20241114T193000
DTEND;TZID=UTC:20241114T220000
DTSTAMP:20260421T213245
CREATED:20241104T062427Z
LAST-MODIFIED:20241104T062650Z
UID:2261-1731612600-1731621600@www.irsee.com
SUMMARY:LIVE Musik in der Taverne - Play
DESCRIPTION:Handmade Gitarrenmukke \nEintritt frei
URL:https://www.irsee.com/termin/live-musik-in-der-taverne-play/
LOCATION:KLOSTERBRAEU TAVERNE
CATEGORIES:Taverne
END:VEVENT
BEGIN:VEVENT
DTSTART;TZID=UTC:20241117T150000
DTEND;TZID=UTC:20241117T170000
DTSTAMP:20260421T213245
CREATED:20241104T065649Z
LAST-MODIFIED:20241104T065936Z
UID:2292-1731855600-1731862800@www.irsee.com
SUMMARY:ALTBAU - Anna Kaminski (Kindervorstellung)
DESCRIPTION:https://www.kleinkunstverein-altbau.de/ \n 
URL:https://www.irsee.com/termin/altbau-anna-kaminski-kindervorstellung/
LOCATION:KLEINKUNSTBUEHNE ALTBAU
CATEGORIES:Altbau
END:VEVENT
BEGIN:VEVENT
DTSTART;TZID=UTC:20241121T193000
DTEND;TZID=UTC:20241121T220000
DTSTAMP:20260421T213245
CREATED:20241104T062807Z
LAST-MODIFIED:20241104T062807Z
UID:2266-1732217400-1732226400@www.irsee.com
SUMMARY:LIVE Musik in der Taverne - TONPHILOSOFIE
DESCRIPTION:Gitarre & Gesang\, frei heraus ohne viel Tamtam \nEintritt frei
URL:https://www.irsee.com/termin/live-musik-in-der-taverne-tonphilosofie/
LOCATION:KLOSTERBRAEU TAVERNE
CATEGORIES:Taverne
END:VEVENT
BEGIN:VEVENT
DTSTART;TZID=UTC:20241124T200000
DTEND;TZID=UTC:20241124T220000
DTSTAMP:20260421T213245
CREATED:20241104T065744Z
LAST-MODIFIED:20241104T065846Z
UID:2294-1732478400-1732485600@www.irsee.com
SUMMARY:ALTBAU - Orchestra Mondo
DESCRIPTION:https://www.kleinkunstverein-altbau.de/
URL:https://www.irsee.com/termin/altbau-orchestra-mondo/
LOCATION:KLEINKUNSTBUEHNE ALTBAU
CATEGORIES:Altbau
END:VEVENT
BEGIN:VEVENT
DTSTART;TZID=UTC:20241128T193000
DTEND;TZID=UTC:20241128T220000
DTSTAMP:20260421T213245
CREATED:20241104T062900Z
LAST-MODIFIED:20241104T062900Z
UID:2268-1732822200-1732831200@www.irsee.com
SUMMARY:LIVE Musik in der Taverne - THE NILUS
DESCRIPTION:Pop\, Rock \nEintritt frei
URL:https://www.irsee.com/termin/live-musik-in-der-taverne-the-nilus/
LOCATION:KLOSTERBRAEU TAVERNE
CATEGORIES:Taverne
END:VEVENT
END:VCALENDAR