BEGIN:VCALENDAR
VERSION:2.0
PRODID:-//Irseer Klosterbräu - ECPv6.15.12.2//NONSGML v1.0//EN
CALSCALE:GREGORIAN
METHOD:PUBLISH
X-ORIGINAL-URL:https://www.irsee.com
X-WR-CALDESC:Veranstaltungen für Irseer Klosterbräu
REFRESH-INTERVAL;VALUE=DURATION:PT1H
X-Robots-Tag:noindex
X-PUBLISHED-TTL:PT1H
BEGIN:VTIMEZONE
TZID:UTC
BEGIN:STANDARD
TZOFFSETFROM:+0000
TZOFFSETTO:+0000
TZNAME:UTC
DTSTART:20250101T000000
END:STANDARD
END:VTIMEZONE
BEGIN:VEVENT
DTSTART;TZID=UTC:20260808T160000
DTEND;TZID=UTC:20260808T180000
DTSTAMP:20260421T151214
CREATED:20260213T123621Z
LAST-MODIFIED:20260213T123958Z
UID:3267-1786204800-1786212000@www.irsee.com
SUMMARY:LIVE Musik im Biergarten
DESCRIPTION:mit musikalischer Umrahmung den Blonhofner und Musiker
URL:https://www.irsee.com/termin/live-musik-im-biergarten-36/
LOCATION:KLOSTERBRAEU BIERGARTEN
CATEGORIES:Biergarten
END:VEVENT
END:VCALENDAR