BEGIN:VCALENDAR
VERSION:2.0
PRODID:-//Irseer Klosterbräu - ECPv6.15.12.2//NONSGML v1.0//EN
CALSCALE:GREGORIAN
METHOD:PUBLISH
X-WR-CALNAME:Irseer Klosterbräu
X-ORIGINAL-URL:https://www.irsee.com
X-WR-CALDESC:Veranstaltungen für Irseer Klosterbräu
REFRESH-INTERVAL;VALUE=DURATION:PT1H
X-Robots-Tag:noindex
X-PUBLISHED-TTL:PT1H
BEGIN:VTIMEZONE
TZID:UTC
BEGIN:STANDARD
TZOFFSETFROM:+0000
TZOFFSETTO:+0000
TZNAME:UTC
DTSTART:20250101T000000
END:STANDARD
END:VTIMEZONE
BEGIN:VEVENT
DTSTART;TZID=UTC:20260516T160000
DTEND;TZID=UTC:20260516T180000
DTSTAMP:20260421T110108
CREATED:20260126T191826Z
LAST-MODIFIED:20260126T192005Z
UID:3220-1778947200-1778954400@www.irsee.com
SUMMARY:LIVE Musik im Biergarten
DESCRIPTION:mit musikalischer Umrahmung des Musikverein Germaringen
URL:https://www.irsee.com/termin/live-musik-im-biergarten-24/
LOCATION:KLOSTERBRAEU BIERGARTEN
CATEGORIES:Biergarten
END:VEVENT
END:VCALENDAR