BEGIN:VCALENDAR
VERSION:2.0
PRODID:-//Irseer Klosterbräu - ECPv6.15.12.2//NONSGML v1.0//EN
CALSCALE:GREGORIAN
METHOD:PUBLISH
X-WR-CALNAME:Irseer Klosterbräu
X-ORIGINAL-URL:https://www.irsee.com
X-WR-CALDESC:Veranstaltungen für Irseer Klosterbräu
REFRESH-INTERVAL;VALUE=DURATION:PT1H
X-Robots-Tag:noindex
X-PUBLISHED-TTL:PT1H
BEGIN:VTIMEZONE
TZID:UTC
BEGIN:STANDARD
TZOFFSETFROM:+0000
TZOFFSETTO:+0000
TZNAME:UTC
DTSTART:20240101T000000
END:STANDARD
END:VTIMEZONE
BEGIN:VEVENT
DTSTART;TZID=UTC:20251211T193000
DTEND;TZID=UTC:20251211T220000
DTSTAMP:20260421T122057
CREATED:20250928T135231Z
LAST-MODIFIED:20250928T135231Z
UID:3002-1765481400-1765490400@www.irsee.com
SUMMARY:LIVE Musik in der Taverne "Tobi Neumann"
DESCRIPTION:Acoustic\, Gitarre\, Gesang
URL:https://www.irsee.com/termin/live-musik-in-der-taverne-tobi-neumann-3/
LOCATION:KLOSTERBRAEU TAVERNE
CATEGORIES:Taverne
END:VEVENT
BEGIN:VEVENT
DTSTART;TZID=UTC:20251211T200000
DTEND;TZID=UTC:20251211T230000
DTSTAMP:20260421T122057
CREATED:20250330T115009Z
LAST-MODIFIED:20250330T115009Z
UID:2611-1765483200-1765494000@www.irsee.com
SUMMARY:ALTBAU - Matthias Schrifl & die Moving Krippenspielers
DESCRIPTION:https://www.kleinkunstverein-altbau.de/
URL:https://www.irsee.com/termin/altbau-matthias-schrifl-die-moving-krippenspielers/
LOCATION:KLEINKUNSTBUEHNE ALTBAU
CATEGORIES:Altbau
END:VEVENT
END:VCALENDAR