BEGIN:VCALENDAR
VERSION:2.0
PRODID:-//Irseer Klosterbräu - ECPv6.15.12.2//NONSGML v1.0//EN
CALSCALE:GREGORIAN
METHOD:PUBLISH
X-ORIGINAL-URL:https://www.irsee.com
X-WR-CALDESC:Veranstaltungen für Irseer Klosterbräu
REFRESH-INTERVAL;VALUE=DURATION:PT1H
X-Robots-Tag:noindex
X-PUBLISHED-TTL:PT1H
BEGIN:VTIMEZONE
TZID:UTC
BEGIN:STANDARD
TZOFFSETFROM:+0000
TZOFFSETTO:+0000
TZNAME:UTC
DTSTART:20240101T000000
END:STANDARD
END:VTIMEZONE
BEGIN:VEVENT
DTSTART;TZID=UTC:20250703T193000
DTEND;TZID=UTC:20250703T220000
DTSTAMP:20260421T110255
CREATED:20250330T084112Z
LAST-MODIFIED:20250330T084112Z
UID:2565-1751571000-1751580000@www.irsee.com
SUMMARY:LIVE Musik in der Taverne - "Adi Hauke"
DESCRIPTION:Acoustic Guitar\, Loop\, Didgeridoo\,….
URL:https://www.irsee.com/termin/live-musik-in-der-taverne-adi-hauke-4/
LOCATION:KLOSTERBRAEU TAVERNE
CATEGORIES:Taverne
END:VEVENT
END:VCALENDAR