BEGIN:VCALENDAR
VERSION:2.0
PRODID:-//Irseer Klosterbräu - ECPv6.15.12.2//NONSGML v1.0//EN
CALSCALE:GREGORIAN
METHOD:PUBLISH
X-WR-CALNAME:Irseer Klosterbräu
X-ORIGINAL-URL:https://www.irsee.com
X-WR-CALDESC:Veranstaltungen für Irseer Klosterbräu
REFRESH-INTERVAL;VALUE=DURATION:PT1H
X-Robots-Tag:noindex
X-PUBLISHED-TTL:PT1H
BEGIN:VTIMEZONE
TZID:UTC
BEGIN:STANDARD
TZOFFSETFROM:+0000
TZOFFSETTO:+0000
TZNAME:UTC
DTSTART:20240101T000000
END:STANDARD
END:VTIMEZONE
BEGIN:VEVENT
DTSTART;TZID=UTC:20250504T113000
DTEND;TZID=UTC:20250504T133000
DTSTAMP:20260421T134504
CREATED:20241206T151342Z
LAST-MODIFIED:20241206T151342Z
UID:2392-1746358200-1746365400@www.irsee.com
SUMMARY:BIERGARTENERÖFFNUNG
DESCRIPTION:mit musikalischer Umrahmung des Musikverein Irsee
URL:https://www.irsee.com/termin/biergarteneroeffnung/
LOCATION:KLOSTERBRAEU BIERGARTEN
CATEGORIES:Biergarten
END:VEVENT
END:VCALENDAR