BEGIN:VCALENDAR
VERSION:2.0
PRODID:-//Irseer Klosterbräu - ECPv6.15.12.2//NONSGML v1.0//EN
CALSCALE:GREGORIAN
METHOD:PUBLISH
X-WR-CALNAME:Irseer Klosterbräu
X-ORIGINAL-URL:https://www.irsee.com
X-WR-CALDESC:Veranstaltungen für Irseer Klosterbräu
REFRESH-INTERVAL;VALUE=DURATION:PT1H
X-Robots-Tag:noindex
X-PUBLISHED-TTL:PT1H
BEGIN:VTIMEZONE
TZID:UTC
BEGIN:STANDARD
TZOFFSETFROM:+0000
TZOFFSETTO:+0000
TZNAME:UTC
DTSTART:20240101T000000
END:STANDARD
END:VTIMEZONE
BEGIN:VEVENT
DTSTART;TZID=UTC:20250501T193000
DTEND;TZID=UTC:20250501T220000
DTSTAMP:20260421T134500
CREATED:20241206T105934Z
LAST-MODIFIED:20250330T113018Z
UID:2380-1746127800-1746136800@www.irsee.com
SUMMARY:LIVE Musik in der Taverne - "TOBI NEUMANN"
DESCRIPTION:Acoustic\, Gitarre\, Gesang
URL:https://www.irsee.com/termin/live-musik-in-der-taverne-tobi-neumann/
LOCATION:KLOSTERBRAEU TAVERNE
CATEGORIES:Taverne
END:VEVENT
END:VCALENDAR