BEGIN:VCALENDAR
VERSION:2.0
PRODID:-//Irseer Klosterbräu - ECPv6.15.12.2//NONSGML v1.0//EN
CALSCALE:GREGORIAN
METHOD:PUBLISH
X-WR-CALNAME:Irseer Klosterbräu
X-ORIGINAL-URL:https://www.irsee.com
X-WR-CALDESC:Veranstaltungen für Irseer Klosterbräu
REFRESH-INTERVAL;VALUE=DURATION:PT1H
X-Robots-Tag:noindex
X-PUBLISHED-TTL:PT1H
BEGIN:VTIMEZONE
TZID:UTC
BEGIN:STANDARD
TZOFFSETFROM:+0000
TZOFFSETTO:+0000
TZNAME:UTC
DTSTART:20230101T000000
END:STANDARD
END:VTIMEZONE
BEGIN:VEVENT
DTSTART;TZID=UTC:20241217T200000
DTEND;TZID=UTC:20241217T220000
DTSTAMP:20260421T212741
CREATED:20241104T070106Z
LAST-MODIFIED:20241104T070106Z
UID:2298-1734465600-1734472800@www.irsee.com
SUMMARY:ALTBAU - Wolfgang Krebs
DESCRIPTION:https://www.kleinkunstverein-altbau.de/ \n 
URL:https://www.irsee.com/termin/altbau-wolfgang-krebs/
LOCATION:KLEINKUNSTBUEHNE ALTBAU
CATEGORIES:Altbau
END:VEVENT
END:VCALENDAR