BEGIN:VCALENDAR
VERSION:2.0
PRODID:-//Irseer Klosterbräu - ECPv6.15.12.2//NONSGML v1.0//EN
CALSCALE:GREGORIAN
METHOD:PUBLISH
X-ORIGINAL-URL:https://www.irsee.com
X-WR-CALDESC:Veranstaltungen für Irseer Klosterbräu
REFRESH-INTERVAL;VALUE=DURATION:PT1H
X-Robots-Tag:noindex
X-PUBLISHED-TTL:PT1H
BEGIN:VTIMEZONE
TZID:UTC
BEGIN:STANDARD
TZOFFSETFROM:+0000
TZOFFSETTO:+0000
TZNAME:UTC
DTSTART:20230101T000000
END:STANDARD
END:VTIMEZONE
BEGIN:VEVENT
DTSTART;TZID=UTC:20241212T193000
DTEND;TZID=UTC:20241212T220000
DTSTAMP:20260421T213221
CREATED:20241102T082845Z
LAST-MODIFIED:20241104T062611Z
UID:2256-1734031800-1734040800@www.irsee.com
SUMMARY:LIVE Musik in der Taverne - MIXI STILL ALIVE + Guest
DESCRIPTION:Unplugged Cover Rock \nEintritt frei
URL:https://www.irsee.com/termin/live-musik-in-der-taverne-mixi-still-alive-2/
LOCATION:KLOSTERBRAEU TAVERNE
CATEGORIES:Taverne
END:VEVENT
END:VCALENDAR