BEGIN:VCALENDAR
VERSION:2.0
PRODID:-//Irseer Klosterbräu - ECPv6.15.12.2//NONSGML v1.0//EN
CALSCALE:GREGORIAN
METHOD:PUBLISH
X-WR-CALNAME:Irseer Klosterbräu
X-ORIGINAL-URL:https://www.irsee.com
X-WR-CALDESC:Veranstaltungen für Irseer Klosterbräu
REFRESH-INTERVAL;VALUE=DURATION:PT1H
X-Robots-Tag:noindex
X-PUBLISHED-TTL:PT1H
BEGIN:VTIMEZONE
TZID:UTC
BEGIN:STANDARD
TZOFFSETFROM:+0000
TZOFFSETTO:+0000
TZNAME:UTC
DTSTART:20230101T000000
END:STANDARD
END:VTIMEZONE
BEGIN:VEVENT
DTSTART;TZID=UTC:20241207T200000
DTEND;TZID=UTC:20241207T220000
DTSTAMP:20260421T212824
CREATED:20241104T070023Z
LAST-MODIFIED:20241104T070023Z
UID:2296-1733601600-1733608800@www.irsee.com
SUMMARY:ALTBAU - Tante Friedl
DESCRIPTION:https://www.kleinkunstverein-altbau.de/
URL:https://www.irsee.com/termin/altbau-tante-friedl/
LOCATION:KLEINKUNSTBUEHNE ALTBAU
CATEGORIES:Altbau
END:VEVENT
END:VCALENDAR